Workbook

Sheet AYUDA
B4: Ayuda

Sheet Detalle de Presupuesto
B5: Ingrese por cada item la unidad, cantidad y precio unitario
B7: It | C7: PARTIDA | D7: UNIDAD | E7: CANTIDAD | F7: PR UNITARIO | G7: COSTO
B8: 1 | C8: Obras preliminares | G8: =SUM(G9:G13) -> 500
B9: 1.1 | C9: Guardianía | G9: =E9*F9 -> 0
B10: 1.2 | C10: Trazo y replanteo | D10: m2 | E10: 3 | F10: 100 | G10: =E10*F10 -> 300
B11: 1.3 | C11: Construcción caseta guardianía y almacén | G11: =E11*F11 -> 0
B12: 1.4 | C12: Cartel de obra | D12: unidad | E12: 1 | F12: 200 | G12: =E12*F12 -> 200
B13: 1.5 | C13: Agua para la construcción | G13: =E13*F13 -> 0
B15: 2 | C15: Concreto simple | G15: =G16+G17 -> 0
B16: 2.1 | C16: Cimiento corrido mezcla 1:10+30% piedra grande | G16: =E16*F16 -> 0
B17: 2.2 | C17: Concreto en falso piso | G17: =E17*F17 -> 0
B19: 3 | C19: Concreto armado | G19: =SUM(G20:G23) -> 0
B20: 3.1 | C20: Sobrecimientos reforzados | G20: =E20*F20 -> 0
B21: 3.2 | C21: Columnas | G21: =E21*F21 -> 0
B22: 3.3 | C22: Vigas, dinteles y soleras | G22: =E22*F22 -> 0
B23: 3.4 | C23: Losas (aligeradas o macizas) | G23: =E23*F23 -> 0
B25: 4 | C25: Arquitectura | G25: =SUM(G26:G36) -> 0
B26: 4.1 | C26: Albañilería muros KK de Arcilla, cabeza 0.25 | G26: =E26*F26 -> 0
B27: 4.2 | C27: Albañilería muros KK de Arcilla, soga 0.15 | G27: =E27*F27 -> 0
B28: 4.3 | C28: Revoque, enlucidos y revestimientos | G28: =E28*F28 -> 0
B29: 4.4 | C29: Pisos y pavimentos | G29: =E29*F29 -> 0
B30: 4.5 | C30: Zócalos y contrazócalos | G30: =E30*F30 -> 0
B31: 4.6 | C31: Carpintería de Madera | G31: =E31*F31 -> 0
B32: 4.7 | C32: Carpintería Metálica | G32: =E32*F32 -> 0
B33: 4.8 | C33: Cerrajería | G33: =E33*F33 -> 0
B34: 4.9 | C34: Vidrios | G34: =E34*F34 -> 0
B35: 4.10 | C35: Pintura | G35: =E35*F35 -> 0
B36: 4.11 | C36: Aparatos Sanitarios | G36: =E36*F36 -> 0
B38: 5 | C38: Instalaciones Sanitarias | G38: =G39+G40 -> 0
B39: 5.1 | C39: Sistema de Desagüe | G39: =E39*F39 -> 0
B40: 5.2 | C40: Sistema de Agua Fría | G40: =E40*F40 -> 0
B42: 6 | C42: Instalaciones Eléctricas | G42: =SUM(G43:G50) -> 0
B43: 6.1 | C43: Acometida | G43: =E43*F43 -> 0
B44: 6.2 | C44: Salidas de Techo | G44: =E44*F44 -> 0
B45: 6.3 | C45: Salidas de Pared | G45: =E45*F45 -> 0
B46: 6.4 | C46: Salidas para Tomacorrientes | G46: =E46*F46 -> 0
B47: 6.5 | C47: Salida de Fuerza | G47: =E47*F47 -> 0
B48: 6.6 | C48: Salidas de Telefono | G48: =E48*F48 -> 0
B49: 6.7 | C49: Tablero de Distribución | G49: =E49*F49 -> 0
B50: 6.8 | C50: Cable eléctrico | G50: =E50*F50 -> 0

Sheet Presupuesto
C7: Presupuesto Vivienda
C9: Datos Empresa: | F9: Datos cliente:
C10: Nombre: | D10: Construcciones Yon | F10: Nombre: | G10: Fernando Ventuda
C11: Dirección: | D11: Av. Planero 411 | F11: Dirección: | G11: Rivadavia 81
C12: Teléfono: | D12: 555-3211 | F12: Teléfono: | G12: 555-1111
C14: Fecha presupuesto: | E14: =TODAY() -> 44169 | F14: Validez:
C15: DESCRIPCIÓN | F15: PRECIO | G15: % DTO. | H15: TOTAL
C16: ='Detalle de Presupuesto'!C8 -> Obras preliminares | F16: ='Detalle de Presupuesto'!G8 -> 500 | G16: 0.05 | H16: =IF(G16<>"",F16-(F16*G16),F16) -> 475
C17: ='Detalle de Presupuesto'!C15 -> Concreto simple | F17: ='Detalle de Presupuesto'!G15 -> 0 | H17: =IF(G17<>"",F17-(F17*G17),F17) -> 0
C18: ='Detalle de Presupuesto'!C19 -> Concreto armado | F18: ='Detalle de Presupuesto'!G19 -> 0 | H18: =IF(G18<>"",F18-(F18*G18),F18) -> 0
C19: ='Detalle de Presupuesto'!C25 -> Arquitectura | F19: ='Detalle de Presupuesto'!G25 -> 0 | H19: =IF(G19<>"",F19-(F19*G19),F19) -> 0
C20: ='Detalle de Presupuesto'!C38 -> Instalaciones Sanitarias | F20: ='Detalle de Presupuesto'!G38 -> 0 | H20: =IF(G20<>"",F20-(F20*G20),F20) -> 0
C21: ='Detalle de Presupuesto'!C42 -> Instalaciones Eléctricas | F21: ='Detalle de Presupuesto'!G42 -> 0 | H21: =IF(G21<>"",F21-(F21*G21),F21) -> 0
F22: 0 | H22: =IF(G22<>"",F22-(F22*G22),F22) -> 0
F23: 0 | H23: =IF(G23<>"",F23-(F23*G23),F23) -> 0
F24: 0 | H24: =IF(G24<>"",F24-(F24*G24),F24) -> 0
F25: 0 | H25: =IF(G25<>"",F25-(F25*G25),F25) -> 0
F26: 0 | H26: =IF(G26<>"",F26-(F26*G26),F26) -> 0
F27: 0 | H27: =IF(G27<>"",F27-(F27*G27),F27) -> 0
F28: 0 | H28: =IF(G28<>"",F28-(F28*G28),F28) -> 0
F29: 0 | H29: =IF(G29<>"",F29-(F29*G29),F29) -> 0
F30: 0 | H30: =IF(G30<>"",F30-(F30*G30),F30) -> 0
F31: 0 | H31: =IF(G31<>"",F31-(F31*G31),F31) -> 0
F32: 0 | H32: =IF(G32<>"",F32-(F32*G32),F32) -> 0
F33: 0 | H33: =IF(G33<>"",F33-(F33*G33),F33) -> 0
... F35: 0 | H35: =IF(G35<>"",F35-(F35*G35),F35) -> 0
F36: TOTAL BRUTO | H36: =SUM(H16:H35) -> 475
F37: I.V.A. % | G37: 0.21 | H37: =H36*G37 -> 99.75
F39: TOTAL | H39: =H36+H37 -> 574.75
