Workbook
Name Empleado: OFFSET(Tarifas!$C$4,1,,COUNTA(Tarifas!$C:$C),)

Sheet Instrucciones
C4: Instrucciones de Uso
C5: Completar
C6: 1.- En la hoja Tarifas completar el nombre de cada contratado y su tarifa por hora.
C7: 2.- En la hoja Horas completar las horas efectuadas por cada contratado
C9: Resultado
C10: 1.- Se obtiene la suma de horas efectuadas de la semana en la columna J.
C11: 2.- El total a pagar por contratado en la semana en la columna K.

Sheet Horas
B4: Semana: | C4: 42901
B6: Contratado | C6: Horas semanales | J6: Total Horas | K6: Total a pagar
C7: Lunes | D7: Martes | E7: Miércoles | F7: Jueves | G7: Viernes | H7: Sábado | I7: Domingo | K7: Horas Normales
B8: Lolez, Lucy | C8: 5 | D8: 5 | E8: 6 | F8: 2 | G8: 5 | H8: 0 | I8: 0 | J8: =IF(SUM(C8:I8)=0,"",SUM(C8:I8)) -> 23 | K8: =IFERROR(J8*VLOOKUP(B8,Tarifas!$C$5:$D$24,2,0),"") -> 1265
B9: Landa, Lalo | C9: 3 | D9: 4 | E9: 2 | F9: 1 | G9: 7 | H9: 1 | I9: 2 | J9: =IF(SUM(C9:I9)=0,"",SUM(C9:I9)) -> 20 | K9: =IFERROR(J9*VLOOKUP(B9,Tarifas!$C$5:$D$24,2,0),"") -> 900
B10: Alegría, Alisson | C10: 4 | D10: 2 | E10: 1 | F10: 6 | G10: 2 | H10: 0 | I10: 0 | J10: =IF(SUM(C10:I10)=0,"",SUM(C10:I10)) -> 15 | K10: =IFERROR(J10*VLOOKUP(B10,Tarifas!$C$5:$D$24,2,0),"") -> 975
J11: =IF(SUM(C11:I11)=0,"",SUM(C11:I11)) | K11: =IFERROR(J11*VLOOKUP(B11,Tarifas!$C$5:$D$24,2,0),"")
J12: =IF(SUM(C12:I12)=0,"",SUM(C12:I12)) | K12: =IFERROR(J12*VLOOKUP(B12,Tarifas!$C$5:$D$24,2,0),"")
J13: =IF(SUM(C13:I13)=0,"",SUM(C13:I13)) | K13: =IFERROR(J13*VLOOKUP(B13,Tarifas!$C$5:$D$24,2,0),"")
J14: =IF(SUM(C14:I14)=0,"",SUM(C14:I14)) | K14: =IFERROR(J14*VLOOKUP(B14,Tarifas!$C$5:$D$24,2,0),"")
J15: =IF(SUM(C15:I15)=0,"",SUM(C15:I15)) | K15: =IFERROR(J15*VLOOKUP(B15,Tarifas!$C$5:$D$24,2,0),"")
J16: =IF(SUM(C16:I16)=0,"",SUM(C16:I16)) | K16: =IFERROR(J16*VLOOKUP(B16,Tarifas!$C$5:$D$24,2,0),"")
J17: =IF(SUM(C17:I17)=0,"",SUM(C17:I17)) | K17: =IFERROR(J17*VLOOKUP(B17,Tarifas!$C$5:$D$24,2,0),"")
J18: =IF(SUM(C18:I18)=0,"",SUM(C18:I18)) | K18: =IFERROR(J18*VLOOKUP(B18,Tarifas!$C$5:$D$24,2,0),"")
J19: =IF(SUM(C19:I19)=0,"",SUM(C19:I19)) | K19: =IFERROR(J19*VLOOKUP(B19,Tarifas!$C$5:$D$24,2,0),"")
J20: =IF(SUM(C20:I20)=0,"",SUM(C20:I20)) | K20: =IFERROR(J20*VLOOKUP(B20,Tarifas!$C$5:$D$24,2,0),"")
J21: =IF(SUM(C21:I21)=0,"",SUM(C21:I21)) | K21: =IFERROR(J21*VLOOKUP(B21,Tarifas!$C$5:$D$24,2,0),"")
J22: =IF(SUM(C22:I22)=0,"",SUM(C22:I22)) | K22: =IFERROR(J22*VLOOKUP(B22,Tarifas!$C$5:$D$24,2,0),"")
... J30: =IF(SUM(C30:I30)=0,"",SUM(C30:I30)) | K30: =IFERROR(J30*VLOOKUP(B30,Tarifas!$C$5:$D$24,2,0),"")

Sheet Tarifas
C4: Contratado | D4: Tarifa por Hora
C5: Lolez, Lucy | D5: 55
C6: Landa, Lalo | D6: 45
C7: Alegría, Alisson | D7: 65
