Workbook
Name Lista_codigos: OFFSET(Equipos!$B$5,0,0,COUNTA(Tabla_Equipos[Código]))
Name Lista_codigos: OFFSET(Velocimetros!$N$4,0,0,COUNTA(Velocimetros!$N$4:$N$1000)-COUNTIF(Velocimetros!$N$4:$N$1000,NA()))
Name Responsable: Equipos!$C$5:$C$23

Sheet Equipos
B2: DATOS DE EQUIPOS INDUSTRIALES | G2: Frecuencia de Mantenimiento
B4: Código | C4: Equipo | D4: Marca | E4: Características Principales | G4: Días | H4: Frecuencia
B5: 8676 | C5: Perforadora Rotativa MD6540C | D5: Caterpillar | E5: Carga sobre la broca 119,050 Lb - Diámetro de perforación: 9" - 15" | G5: 7 | H5: Semanal
B6: 4020 | C6: Perforadora Smart ROC D65 | D6: Epiroc | E6: Diametro de barreno 110mm - 229mm .}- Martillo 6" | G6: 15 | H6: Quincenal
B7: 4717 | C7: Perforadora 320XPC | D7: P&H | E7: 150,000 lb de carga de barrena - Diámetro de perforación 10" 5/8 - 17" ½ | G7: 30 | H7: Mensual
B8: 2180 | C8: Excavadora 385C | D8: Caterpillar | E8: Peso 86.5 T - Capacidad cuchara 4m3 | G8: 60 | H8: Bimestral
G9: 90 | H9: Trimestral
G10: 180 | H10: Semestral
G11: 360 | H11: Anual

Sheet Programa
B1: CONTROL DE MANTENIMIENTO PREVENTIVO DE EQUIPOS
B3: =REPT(" ",8)&COUNTA($E$11:$E$10000) -> 0 | E3: Programados (PR) | F3: =SUM($I$11:$I$10000) -> 0 | H3: Objetivos | S3: INICIA EN LA SEMANA DEL
B4: {=REPT(" ",8)&TEXT(SUM(1/COUNTIF(D11:D100,D11:D100))-1,"0")} -> 0 | E4: Ejecutados (E) | F4: =SUM($J$11:$J$10000) -> 0 | H4: Cumplim | I4: Efectiv | W4: =30000+Velocimetros!O4 -> 45103
E5: Reprogramados (R) | F5: =SUM($K$11:$K$10000) -> 0 | H5: 0.75 | I5: 0.6
S6: =IF(S7="",R6,S7) -> Semana 1 | T6: =IF(T7="",S6,T7) -> Semana 1 | U6: =IF(U7="",T6,U7) -> Semana 1 | V6: =IF(V7="",U6,V7) -> Semana 1 | W6: =IF(W7="",V6,W7) -> Semana 1 | X6: =IF(X7="",W6,X7) -> Semana 1 | Y6: =IF(Y7="",X6,Y7) -> Semana 1 | Z6: =IF(Z7="",Y6,Z7) -> Semana 2 | ... NY6: =IF(NY7="",NX6,NY7) -> Semana 53
E7: No Ejecutados (N) | F7: =SUM($L$11:$L$10000) -> 0 | H7: 0.9 | I7: 0.8 | S7: ="Semana "&(S9-($W$4-WEEKDAY($W$4,2)+1))/7+1 -> Semana 1 | Z7: ="Semana "&(Z9-($W$4-WEEKDAY($W$4,2)+1))/7+1 -> Semana 2 | AG7: ="Semana "&(AG9-($W$4-WEEKDAY($W$4,2)+1))/7+1 -> Semana 3 | AN7: ="Semana "&(AN9-($W$4-WEEKDAY($W$4,2)+1))/7+1 -> Semana 4 | AU7: ="Semana "&(AU9-($W$4-WEEKDAY($W$4,2)+1))/7+1 -> Semana 5 | BB7: ="Semana "&(BB9-($W$4-WEEKDAY($W$4,2)+1))/7+1 -> Semana 6 | BI7: ="Semana "&(BI9-($W$4-WEEKDAY($W$4,2)+1))/7+1 -> Semana 7 | BP7: ="Semana "&(BP9-($W$4-WEEKDAY($W$4,2)+1))/7+1 -> Semana 8 | BW7: ="Semana "&(BW9-($W$4-WEEKDAY($W$4,2)+1))/7+1 -> Semana 9 | CD7: ="Semana "&(CD9-($W$4-WEEKDAY($W$4,2)+1))/7+1 -> Semana 10 | CK7: ="Semana "&(CK9-($W$4-WEEKDAY($W$4,2)+1))/7+1 -> Semana 11 | CR7: ="Semana "&(CR9-($W$4-WEEKDAY($W$4,2)+1))/7+1 -> Semana 12 | CY7: ="Semana "&(CY9-($W$4-WEEKDAY($W$4,2)+1))/7+1 -> Semana 13 | DF7: ="Semana "&(DF9-($W$4-WEEKDAY($W$4,2)+1))/7+1 -> Semana 14 | DM7: ="Semana "&(DM9-($W$4-WEEKDAY($W$4,2)+1))/7+1 -> Semana 15 | DT7: ="Semana "&(DT9-($W$4-WEEKDAY($W$4,2)+1))/7+1 -> Semana 16 | EA7: ="Semana "&(EA9-($W$4-WEEKDAY($W$4,2)+1))/7+1 -> Semana 17 | EH7: ="Semana "&(EH9-($W$4-WEEKDAY($W$4,2)+1))/7+1 -> Semana 18 | EO7: ="Semana "&(EO9-($W$4-WEEKDAY($W$4,2)+1))/7+1 -> Semana 19 | EV7: ="Semana "&(EV9-($W$4-WEEKDAY($W$4,2)+1))/7+1 -> Semana 20 | FC7: ="Semana "&(FC9-($W$4-WEEKDAY($W$4,2)+1))/7+1 -> Semana 21 | FJ7: ="Semana "&(FJ9-($W$4-WEEKDAY($W$4,2)+1))/7+1 -> Semana 22 | FQ7: ="Semana "&(FQ9-($W$4-WEEKDAY($W$4,2)+1))/7+1 -> Semana 23 | FX7: ="Semana "&(FX9-($W$4-WEEKDAY($W$4,2)+1))/7+1 -> Semana 24 | GE7: ="Semana "&(GE9-($W$4-WEEKDAY($W$4,2)+1))/7+1 -> Semana 25 | GL7: ="Semana "&(GL9-($W$4-WEEKDAY($W$4,2)+1))/7+1 -> Semana 26 | GS7: ="Semana "&(GS9-($W$4-WEEKDAY($W$4,2)+1))/7+1 -> Semana 27 | GZ7: ="Semana "&(GZ9-($W$4-WEEKDAY($W$4,2)+1))/7+1 -> Semana 28 | HG7: ="Semana "&(HG9-($W$4-WEEKDAY($W$4,2)+1))/7+1 -> Semana 29 | HN7: ="Semana "&(HN9-($W$4-WEEKDAY($W$4,2)+1))/7+1 -> Semana 30 | HU7: ="Semana "&(HU9-($W$4-WEEKDAY($W$4,2)+1))/7+1 -> Semana 31 | IB7: ="Semana "&(IB9-($W$4-WEEKDAY($W$4,2)+1))/7+1 -> Semana 32 | II7: ="Semana "&(II9-($W$4-WEEKDAY($W$4,2)+1))/7+1 -> Semana 33 | IP7: ="Semana "&(IP9-($W$4-WEEKDAY($W$4,2)+1))/7+1 -> Semana 34 | IW7: ="Semana "&(IW9-($W$4-WEEKDAY($W$4,2)+1))/7+1 -> Semana 35 | JD7: ="Semana "&(JD9-($W$4-WEEKDAY($W$4,2)+1))/7+1 -> Semana 36 | JK7: ="Semana "&(JK9-($W$4-WEEKDAY($W$4,2)+1))/7+1 -> Semana 37 | JR7: ="Semana "&(JR9-($W$4-WEEKDAY($W$4,2)+1))/7+1 -> Semana 38 | JY7: ="Semana "&(JY9-($W$4-WEEKDAY($W$4,2)+1))/7+1 -> Semana 39 | KF7: ="Semana "&(KF9-($W$4-WEEKDAY($W$4,2)+1))/7+1 -> Semana 40 | KM7: ="Semana "&(KM9-($W$4-WEEKDAY($W$4,2)+1))/7+1 -> Semana 41 | KT7: ="Semana "&(KT9-($W$4-WEEKDAY($W$4,2)+1))/7+1 -> Semana 42 | LA7: ="Semana "&(LA9-($W$4-WEEKDAY($W$4,2)+1))/7+1 -> Semana 43 | LH7: ="Semana "&(LH9-($W$4-WEEKDAY($W$4,2)+1))/7+1 -> Semana 44 | LO7: ="Semana "&(LO9-($W$4-WEEKDAY($W$4,2)+1))/7+1 -> Semana 45 | LV7: ="Semana "&(LV9-($W$4-WEEKDAY($W$4,2)+1))/7+1 -> Semana 46 | MC7: ="Semana "&(MC9-($W$4-WEEKDAY($W$4,2)+1))/7+1 -> Semana 47 | MJ7: ="Semana "&(MJ9-($W$4-WEEKDAY($W$4,2)+1))/7+1 -> Semana 48 | MQ7: ="Semana "&(MQ9-($W$4-WEEKDAY($W$4,2)+1))/7+1 -> Semana 49 | MX7: ="Semana "&(MX9-($W$4-WEEKDAY($W$4,2)+1))/7+1 -> Semana 50 | NE7: ="Semana "&(NE9-($W$4-WEEKDAY($W$4,2)+1))/7+1 -> Semana 51 | NL7: ="Semana "&(NL9-($W$4-WEEKDAY($W$4,2)+1))/7+1 -> Semana 52 | NS7: ="Semana "&(NS9-($W$4-WEEKDAY($W$4,2)+1))/7+1 -> Semana 53
E8: Pendientes (P) | F8: =SUM($M$11:$M$10000) -> 0 | S8: =TEXT(S9,"dd mmm")&" - "&TEXT(S9+6,"dd mmm") -> 26 jun - 02 jul | Z8: =TEXT(Z9,"dd mmm")&" - "&TEXT(Z9+6,"dd mmm") -> 03 jul - 09 jul | AG8: =TEXT(AG9,"dd mmm")&" - "&TEXT(AG9+6,"dd mmm") -> 10 jul - 16 jul | AN8: =TEXT(AN9,"dd mmm")&" - "&TEXT(AN9+6,"dd mmm") -> 17 jul - 23 jul | AU8: =TEXT(AU9,"dd mmm")&" - "&TEXT(AU9+6,"dd mmm") -> 24 jul - 30 jul | BB8: =TEXT(BB9,"dd mmm")&" - "&TEXT(BB9+6,"dd mmm") -> 31 jul - 06 ago | BI8: =TEXT(BI9,"dd mmm")&" - "&TEXT(BI9+6,"dd mmm") -> 07 ago - 13 ago | BP8: =TEXT(BP9,"dd mmm")&" - "&TEXT(BP9+6,"dd mmm") -> 14 ago - 20 ago | BW8: =TEXT(BW9,"dd mmm")&" - "&TEXT(BW9+6,"dd mmm") -> 21 ago - 27 ago | CD8: =TEXT(CD9,"dd mmm")&" - "&TEXT(CD9+6,"dd mmm") -> 28 ago - 03 sep | CK8: =TEXT(CK9,"dd mmm")&" - "&TEXT(CK9+6,"dd mmm") -> 04 sep - 10 sep | CR8: =TEXT(CR9,"dd mmm")&" - "&TEXT(CR9+6,"dd mmm") -> 11 sep - 17 sep | CY8: =TEXT(CY9,"dd mmm")&" - "&TEXT(CY9+6,"dd mmm") -> 18 sep - 24 sep | DF8: =TEXT(DF9,"dd mmm")&" - "&TEXT(DF9+6,"dd mmm") -> 25 sep - 01 oct | DM8: =TEXT(DM9,"dd mmm")&" - "&TEXT(DM9+6,"dd mmm") -> 02 oct - 08 oct | DT8: =TEXT(DT9,"dd mmm")&" - "&TEXT(DT9+6,"dd mmm") -> 09 oct - 15 oct | EA8: =TEXT(EA9,"dd mmm")&" - "&TEXT(EA9+6,"dd mmm") -> 16 oct - 22 oct | EH8: =TEXT(EH9,"dd mmm")&" - "&TEXT(EH9+6,"dd mmm") -> 23 oct - 29 oct | EO8: =TEXT(EO9,"dd mmm")&" - "&TEXT(EO9+6,"dd mmm") -> 30 oct - 05 nov | EV8: =TEXT(EV9,"dd mmm")&" - "&TEXT(EV9+6,"dd mmm") -> 06 nov - 12 nov | FC8: =TEXT(FC9,"dd mmm")&" - "&TEXT(FC9+6,"dd mmm") -> 13 nov - 19 nov | FJ8: =TEXT(FJ9,"dd mmm")&" - "&TEXT(FJ9+6,"dd mmm") -> 20 nov - 26 nov | FQ8: =TEXT(FQ9,"dd mmm")&" - "&TEXT(FQ9+6,"dd mmm") -> 27 nov - 03 dic | FX8: =TEXT(FX9,"dd mmm")&" - "&TEXT(FX9+6,"dd mmm") -> 04 dic - 10 dic | GE8: =TEXT(GE9,"dd mmm")&" - "&TEXT(GE9+6,"dd mmm") -> 11 dic - 17 dic | GL8: =TEXT(GL9,"dd mmm")&" - "&TEXT(GL9+6,"dd mmm") -> 18 dic - 24 dic | GS8: =TEXT(GS9,"dd mmm")&" - "&TEXT(GS9+6,"dd mmm") -> 25 dic - 31 dic | GZ8: =TEXT(GZ9,"dd mmm")&" - "&TEXT(GZ9+6,"dd mmm") -> 01 ene - 07 ene | HG8: =TEXT(HG9,"dd mmm")&" - "&TEXT(HG9+6,"dd mmm") -> 08 ene - 14 ene | HN8: =TEXT(HN9,"dd mmm")&" - "&TEXT(HN9+6,"dd mmm") -> 15 ene - 21 ene | HU8: =TEXT(HU9,"dd mmm")&" - "&TEXT(HU9+6,"dd mmm") -> 22 ene - 28 ene | IB8: =TEXT(IB9,"dd mmm")&" - "&TEXT(IB9+6,"dd mmm") -> 29 ene - 04 feb | II8: =TEXT(II9,"dd mmm")&" - "&TEXT(II9+6,"dd mmm") -> 05 feb - 11 feb | IP8: =TEXT(IP9,"dd mmm")&" - "&TEXT(IP9+6,"dd mmm") -> 12 feb - 18 feb | IW8: =TEXT(IW9,"dd mmm")&" - "&TEXT(IW9+6,"dd mmm") -> 19 feb - 25 feb | JD8: =TEXT(JD9,"dd mmm")&" - "&TEXT(JD9+6,"dd mmm") -> 26 feb - 03 mar | JK8: =TEXT(JK9,"dd mmm")&" - "&TEXT(JK9+6,"dd mmm") -> 04 mar - 10 mar | JR8: =TEXT(JR9,"dd mmm")&" - "&TEXT(JR9+6,"dd mmm") -> 11 mar - 17 mar | JY8: =TEXT(JY9,"dd mmm")&" - "&TEXT(JY9+6,"dd mmm") -> 18 mar - 24 mar | KF8: =TEXT(KF9,"dd mmm")&" - "&TEXT(KF9+6,"dd mmm") -> 25 mar - 31 mar | KM8: =TEXT(KM9,"dd mmm")&" - "&TEXT(KM9+6,"dd mmm") -> 01 abr - 07 abr | KT8: =TEXT(KT9,"dd mmm")&" - "&TEXT(KT9+6,"dd mmm") -> 08 abr - 14 abr | LA8: =TEXT(LA9,"dd mmm")&" - "&TEXT(LA9+6,"dd mmm") -> 15 abr - 21 abr | LH8: =TEXT(LH9,"dd mmm")&" - "&TEXT(LH9+6,"dd mmm") -> 22 abr - 28 abr | LO8: =TEXT(LO9,"dd mmm")&" - "&TEXT(LO9+6,"dd mmm") -> 29 abr - 05 may | LV8: =TEXT(LV9,"dd mmm")&" - "&TEXT(LV9+6,"dd mmm") -> 06 may - 12 may | MC8: =TEXT(MC9,"dd mmm")&" - "&TEXT(MC9+6,"dd mmm") -> 13 may - 19 may | MJ8: =TEXT(MJ9,"dd mmm")&" - "&TEXT(MJ9+6,"dd mmm") -> 20 may - 26 may | MQ8: =TEXT(MQ9,"dd mmm")&" - "&TEXT(MQ9+6,"dd mmm") -> 27 may - 02 jun | MX8: =TEXT(MX9,"dd mmm")&" - "&TEXT(MX9+6,"dd mmm") -> 03 jun - 09 jun | NE8: =TEXT(NE9,"dd mmm")&" - "&TEXT(NE9+6,"dd mmm") -> 10 jun - 16 jun | NL8: =TEXT(NL9,"dd mmm")&" - "&TEXT(NL9+6,"dd mmm") -> 17 jun - 23 jun | NS8: =TEXT(NS9,"dd mmm")&" - "&TEXT(NS9+6,"dd mmm") -> 24 jun - 30 jun
I9: ESTADO | N9: INDICADORES | P9: PRÓXIMO | S9: =W4-WEEKDAY(W4,2)+1 -> 45103 | T9: =S9+1 -> 45104 | U9: =T9+1 -> 45105 | V9: =U9+1 -> 45106 | W9: =V9+1 -> 45107 | X9: =W9+1 -> 45108 | Y9: =X9+1 -> 45109 | Z9: =Y9+1 -> 45110 | AA9: =Z9+1 -> 45111 | ... NY9: =NX9+1 -> 45473
B10: Nro | C10: Cód | D10: Equipo | E10: Actividad | F10: Día de inicio | G10: Frecuencia (días) | H10: Frecuencia | I10: PR | J10: E | K10: R | L10: N | M10: P | N10: Cumplimiento | O10: Efectividad | P10: Proximo Mnnto | Q10: Faltan días | S10: =PROPER(TEXT(S9,"ddd")) -> Lun | T10: =PROPER(TEXT(T9,"ddd")) -> Mar | U10: =PROPER(TEXT(U9,"ddd")) -> Mié | V10: =PROPER(TEXT(V9,"ddd")) -> Jue | W10: =PROPER(TEXT(W9,"ddd")) -> Vie | X10: =PROPER(TEXT(X9,"ddd")) -> Sáb | Y10: =PROPER(TEXT(Y9,"ddd")) -> Dom | Z10: =PROPER(TEXT(Z9,"ddd")) -> Lun | ... NY10: =PROPER(TEXT(NY9,"ddd")) -> Dom
B11: =IF(C11="","",ROW(A1)) | D11: =IFERROR(VLOOKUP(C11,Tabla_Equipos[],2,FALSE),"") | H11: =IF(G11="","",IFERROR(VLOOKUP(G11,Tabla_Frecuencias[],2,FALSE),"Otra")) | I11: {=IFERROR(SUM((($S$9:$NY$9>=$F11)*(MOD($S$9:$NY$9-$F11,$G11)+1)=1)*1),"")} | J11: =IF($I11="","",COUNTIF($S11:$NY11,J$10)) | K11: =IF($I11="","",COUNTIF($S11:$NY11,K$10)) | L11: =IF($I11="","",COUNTIF($S11:$NY11,L$10)) | M11: =IF($I11="","",I11-J11-L11) | N11: =IFERROR(J11/(J11+L11),"") | O11: =IFERROR(J11/(J11+K11),"") | P11: {=IFERROR(INDEX($S$9:$NY$9,MATCH("P",S11:NY11,0)),IFERROR(INDEX($S$9:$NY$9,1,MATCH(J11+L11+1,($S$9:$NY$9>=$F11)*(QUOTIENT($S$9:$NY$9-$F11,$G11)+1),0)),""))} | Q11: =IF(P11="","",IF(P11-TODAY()<0,"",P11-TODAY()))
B12: =IF(C12="","",ROW(A2)) | D12: =IFERROR(VLOOKUP(C12,Tabla_Equipos[],2,FALSE),"") | H12: =IF(G12="","",IFERROR(VLOOKUP(G12,Tabla_Frecuencias[],2,FALSE),"Otra")) | I12: {=IFERROR(SUM((($S$9:$NY$9>=$F12)*(MOD($S$9:$NY$9-$F12,$G12)+1)=1)*1),"")} | J12: =IF($I12="","",COUNTIF($S12:$NY12,J$10)) | K12: =IF($I12="","",COUNTIF($S12:$NY12,K$10)) | L12: =IF($I12="","",COUNTIF($S12:$NY12,L$10)) | M12: =IF($I12="","",I12+COUNTIF($S12:$NY12,M$10)-J12-L12) | N12: =IFERROR(J12/(J12+L12),"") | O12: =IFERROR(J12/(J12+K12),"") | P12: {=IFERROR(INDEX($S$9:$NY$9,MATCH("P",S12:NY12,0)),IFERROR(INDEX($S$9:$NY$9,1,MATCH(J12+L12+1,($S$9:$NY$9>=$F12)*(QUOTIENT($S$9:$NY$9-$F12,$G12)+1),0)),""))} | Q12: =IF(P12="","",IF(P12-TODAY()<0,"",P12-TODAY()))
B13: =IF(C13="","",ROW(A3)) | D13: =IFERROR(VLOOKUP(C13,Tabla_Equipos[],2,FALSE),"") | H13: =IF(G13="","",IFERROR(VLOOKUP(G13,Tabla_Frecuencias[],2,FALSE),"Otra")) | I13: {=IFERROR(SUM((($S$9:$NY$9>=$F13)*(MOD($S$9:$NY$9-$F13,$G13)+1)=1)*1),"")} | J13: =IF($I13="","",COUNTIF($S13:$NY13,J$10)) | K13: =IF($I13="","",COUNTIF($S13:$NY13,K$10)) | L13: =IF($I13="","",COUNTIF($S13:$NY13,L$10)) | M13: =IF($I13="","",I13+COUNTIF($S13:$NY13,M$10)-J13-L13) | N13: =IFERROR(J13/(J13+L13),"") | O13: =IFERROR(J13/(J13+K13),"") | P13: {=IFERROR(INDEX($S$9:$NY$9,MATCH("P",S13:NY13,0)),IFERROR(INDEX($S$9:$NY$9,1,MATCH(J13+L13+1,($S$9:$NY$9>=$F13)*(QUOTIENT($S$9:$NY$9-$F13,$G13)+1),0)),""))} | Q13: =IF(P13="","",IF(P13-TODAY()<0,"",P13-TODAY()))
B14: =IF(C14="","",ROW(A4)) | D14: =IFERROR(VLOOKUP(C14,Tabla_Equipos[],2,FALSE),"") | H14: =IF(G14="","",IFERROR(VLOOKUP(G14,Tabla_Frecuencias[],2,FALSE),"Otra")) | I14: {=IFERROR(SUM((($S$9:$NY$9>=$F14)*(MOD($S$9:$NY$9-$F14,$G14)+1)=1)*1),"")} | J14: =IF($I14="","",COUNTIF($S14:$NY14,J$10)) | K14: =IF($I14="","",COUNTIF($S14:$NY14,K$10)) | L14: =IF($I14="","",COUNTIF($S14:$NY14,L$10)) | M14: =IF($I14="","",I14+COUNTIF($S14:$NY14,M$10)-J14-L14) | N14: =IFERROR(J14/(J14+L14),"") | O14: =IFERROR(J14/(J14+K14),"") | P14: {=IFERROR(INDEX($S$9:$NY$9,MATCH("P",S14:NY14,0)),IFERROR(INDEX($S$9:$NY$9,1,MATCH(J14+L14+1,($S$9:$NY$9>=$F14)*(QUOTIENT($S$9:$NY$9-$F14,$G14)+1),0)),""))} | Q14: =IF(P14="","",IF(P14-TODAY()<0,"",P14-TODAY()))
B15: =IF(C15="","",ROW(A5)) | D15: =IFERROR(VLOOKUP(C15,Tabla_Equipos[],2,FALSE),"") | H15: =IF(G15="","",IFERROR(VLOOKUP(G15,Tabla_Frecuencias[],2,FALSE),"Otra")) | I15: {=IFERROR(SUM((($S$9:$NY$9>=$F15)*(MOD($S$9:$NY$9-$F15,$G15)+1)=1)*1),"")} | J15: =IF($I15="","",COUNTIF($S15:$NY15,J$10)) | K15: =IF($I15="","",COUNTIF($S15:$NY15,K$10)) | L15: =IF($I15="","",COUNTIF($S15:$NY15,L$10)) | M15: =IF($I15="","",I15+COUNTIF($S15:$NY15,M$10)-J15-L15) | N15: =IFERROR(J15/(J15+L15),"") | O15: =IFERROR(J15/(J15+K15),"") | P15: {=IFERROR(INDEX($S$9:$NY$9,MATCH("P",S15:NY15,0)),IFERROR(INDEX($S$9:$NY$9,1,MATCH(J15+L15+1,($S$9:$NY$9>=$F15)*(QUOTIENT($S$9:$NY$9-$F15,$G15)+1),0)),""))} | Q15: =IF(P15="","",IF(P15-TODAY()<0,"",P15-TODAY()))
B16: =IF(C16="","",ROW(A6)) | D16: =IFERROR(VLOOKUP(C16,Tabla_Equipos[],2,FALSE),"") | H16: =IF(G16="","",IFERROR(VLOOKUP(G16,Tabla_Frecuencias[],2,FALSE),"Otra")) | I16: {=IFERROR(SUM((($S$9:$NY$9>=$F16)*(MOD($S$9:$NY$9-$F16,$G16)+1)=1)*1),"")} | J16: =IF($I16="","",COUNTIF($S16:$NY16,J$10)) | K16: =IF($I16="","",COUNTIF($S16:$NY16,K$10)) | L16: =IF($I16="","",COUNTIF($S16:$NY16,L$10)) | M16: =IF($I16="","",I16+COUNTIF($S16:$NY16,M$10)-J16-L16) | N16: =IFERROR(J16/(J16+L16),"") | O16: =IFERROR(J16/(J16+K16),"") | P16: {=IFERROR(INDEX($S$9:$NY$9,MATCH("P",S16:NY16,0)),IFERROR(INDEX($S$9:$NY$9,1,MATCH(J16+L16+1,($S$9:$NY$9>=$F16)*(QUOTIENT($S$9:$NY$9-$F16,$G16)+1),0)),""))} | Q16: =IF(P16="","",IF(P16-TODAY()<0,"",P16-TODAY()))
B17: =IF(C17="","",ROW(A7)) | D17: =IFERROR(VLOOKUP(C17,Tabla_Equipos[],2,FALSE),"") | H17: =IF(G17="","",IFERROR(VLOOKUP(G17,Tabla_Frecuencias[],2,FALSE),"Otra")) | I17: {=IFERROR(SUM((($S$9:$NY$9>=$F17)*(MOD($S$9:$NY$9-$F17,$G17)+1)=1)*1),"")} | J17: =IF($I17="","",COUNTIF($S17:$NY17,J$10)) | K17: =IF($I17="","",COUNTIF($S17:$NY17,K$10)) | L17: =IF($I17="","",COUNTIF($S17:$NY17,L$10)) | M17: =IF($I17="","",I17+COUNTIF($S17:$NY17,M$10)-J17-L17) | N17: =IFERROR(J17/(J17+L17),"") | O17: =IFERROR(J17/(J17+K17),"") | P17: {=IFERROR(INDEX($S$9:$NY$9,MATCH("P",S17:NY17,0)),IFERROR(INDEX($S$9:$NY$9,1,MATCH(J17+L17+1,($S$9:$NY$9>=$F17)*(QUOTIENT($S$9:$NY$9-$F17,$G17)+1),0)),""))} | Q17: =IF(P17="","",IF(P17-TODAY()<0,"",P17-TODAY()))
B18: =IF(C18="","",ROW(A8)) | D18: =IFERROR(VLOOKUP(C18,Tabla_Equipos[],2,FALSE),"") | H18: =IF(G18="","",IFERROR(VLOOKUP(G18,Tabla_Frecuencias[],2,FALSE),"Otra")) | I18: {=IFERROR(SUM((($S$9:$NY$9>=$F18)*(MOD($S$9:$NY$9-$F18,$G18)+1)=1)*1),"")} | J18: =IF($I18="","",COUNTIF($S18:$NY18,J$10)) | K18: =IF($I18="","",COUNTIF($S18:$NY18,K$10)) | L18: =IF($I18="","",COUNTIF($S18:$NY18,L$10)) | M18: =IF($I18="","",I18+COUNTIF($S18:$NY18,M$10)-J18-L18) | N18: =IFERROR(J18/(J18+L18),"") | O18: =IFERROR(J18/(J18+K18),"") | P18: {=IFERROR(INDEX($S$9:$NY$9,MATCH("P",S18:NY18,0)),IFERROR(INDEX($S$9:$NY$9,1,MATCH(J18+L18+1,($S$9:$NY$9>=$F18)*(QUOTIENT($S$9:$NY$9-$F18,$G18)+1),0)),""))} | Q18: =IF(P18="","",IF(P18-TODAY()<0,"",P18-TODAY()))
B19: =IF(C19="","",ROW(A9)) | D19: =IFERROR(VLOOKUP(C19,Tabla_Equipos[],2,FALSE),"") | H19: =IF(G19="","",IFERROR(VLOOKUP(G19,Tabla_Frecuencias[],2,FALSE),"Otra")) | I19: {=IFERROR(SUM((($S$9:$NY$9>=$F19)*(MOD($S$9:$NY$9-$F19,$G19)+1)=1)*1),"")} | J19: =IF($I19="","",COUNTIF($S19:$NY19,J$10)) | K19: =IF($I19="","",COUNTIF($S19:$NY19,K$10)) | L19: =IF($I19="","",COUNTIF($S19:$NY19,L$10)) | M19: =IF($I19="","",I19+COUNTIF($S19:$NY19,M$10)-J19-L19) | N19: =IFERROR(J19/(J19+L19),"") | O19: =IFERROR(J19/(J19+K19),"") | P19: {=IFERROR(INDEX($S$9:$NY$9,MATCH("P",S19:NY19,0)),IFERROR(INDEX($S$9:$NY$9,1,MATCH(J19+L19+1,($S$9:$NY$9>=$F19)*(QUOTIENT($S$9:$NY$9-$F19,$G19)+1),0)),""))} | Q19: =IF(P19="","",IF(P19-TODAY()<0,"",P19-TODAY()))
B20: =IF(C20="","",ROW(A10)) | D20: =IFERROR(VLOOKUP(C20,Tabla_Equipos[],2,FALSE),"") | H20: =IF(G20="","",IFERROR(VLOOKUP(G20,Tabla_Frecuencias[],2,FALSE),"Otra")) | I20: {=IFERROR(SUM((($S$9:$NY$9>=$F20)*(MOD($S$9:$NY$9-$F20,$G20)+1)=1)*1),"")} | J20: =IF($I20="","",COUNTIF($S20:$NY20,J$10)) | K20: =IF($I20="","",COUNTIF($S20:$NY20,K$10)) | L20: =IF($I20="","",COUNTIF($S20:$NY20,L$10)) | M20: =IF($I20="","",I20+COUNTIF($S20:$NY20,M$10)-J20-L20) | N20: =IFERROR(J20/(J20+L20),"") | O20: =IFERROR(J20/(J20+K20),"") | P20: {=IFERROR(INDEX($S$9:$NY$9,MATCH("P",S20:NY20,0)),IFERROR(INDEX($S$9:$NY$9,1,MATCH(J20+L20+1,($S$9:$NY$9>=$F20)*(QUOTIENT($S$9:$NY$9-$F20,$G20)+1),0)),""))} | Q20: =IF(P20="","",IF(P20-TODAY()<0,"",P20-TODAY()))
B21: =IF(C21="","",ROW(A11)) | D21: =IFERROR(VLOOKUP(C21,Tabla_Equipos[],2,FALSE),"") | H21: =IF(G21="","",IFERROR(VLOOKUP(G21,Tabla_Frecuencias[],2,FALSE),"Otra")) | I21: {=IFERROR(SUM((($S$9:$NY$9>=$F21)*(MOD($S$9:$NY$9-$F21,$G21)+1)=1)*1),"")} | J21: =IF($I21="","",COUNTIF($S21:$NY21,J$10)) | K21: =IF($I21="","",COUNTIF($S21:$NY21,K$10)) | L21: =IF($I21="","",COUNTIF($S21:$NY21,L$10)) | M21: =IF($I21="","",I21+COUNTIF($S21:$NY21,M$10)-J21-L21) | N21: =IFERROR(J21/(J21+L21),"") | O21: =IFERROR(J21/(J21+K21),"") | P21: {=IFERROR(INDEX($S$9:$NY$9,MATCH("P",S21:NY21,0)),IFERROR(INDEX($S$9:$NY$9,1,MATCH(J21+L21+1,($S$9:$NY$9>=$F21)*(QUOTIENT($S$9:$NY$9-$F21,$G21)+1),0)),""))} | Q21: =IF(P21="","",IF(P21-TODAY()<0,"",P21-TODAY()))
B22: =IF(C22="","",ROW(A12)) | D22: =IFERROR(VLOOKUP(C22,Tabla_Equipos[],2,FALSE),"") | H22: =IF(G22="","",IFERROR(VLOOKUP(G22,Tabla_Frecuencias[],2,FALSE),"Otra")) | I22: {=IFERROR(SUM((($S$9:$NY$9>=$F22)*(MOD($S$9:$NY$9-$F22,$G22)+1)=1)*1),"")} | J22: =IF($I22="","",COUNTIF($S22:$NY22,J$10)) | K22: =IF($I22="","",COUNTIF($S22:$NY22,K$10)) | L22: =IF($I22="","",COUNTIF($S22:$NY22,L$10)) | M22: =IF($I22="","",I22+COUNTIF($S22:$NY22,M$10)-J22-L22) | N22: =IFERROR(J22/(J22+L22),"") | O22: =IFERROR(J22/(J22+K22),"") | P22: {=IFERROR(INDEX($S$9:$NY$9,MATCH("P",S22:NY22,0)),IFERROR(INDEX($S$9:$NY$9,1,MATCH(J22+L22+1,($S$9:$NY$9>=$F22)*(QUOTIENT($S$9:$NY$9-$F22,$G22)+1),0)),""))} | Q22: =IF(P22="","",IF(P22-TODAY()<0,"",P22-TODAY()))
B23: =IF(C23="","",ROW(A13)) | D23: =IFERROR(VLOOKUP(C23,Tabla_Equipos[],2,FALSE),"") | H23: =IF(G23="","",IFERROR(VLOOKUP(G23,Tabla_Frecuencias[],2,FALSE),"Otra")) | I23: {=IFERROR(SUM((($S$9:$NY$9>=$F23)*(MOD($S$9:$NY$9-$F23,$G23)+1)=1)*1),"")} | J23: =IF($I23="","",COUNTIF($S23:$NY23,J$10)) | K23: =IF($I23="","",COUNTIF($S23:$NY23,K$10)) | L23: =IF($I23="","",COUNTIF($S23:$NY23,L$10)) | M23: =IF($I23="","",I23+COUNTIF($S23:$NY23,M$10)-J23-L23) | N23: =IFERROR(J23/(J23+L23),"") | O23: =IFERROR(J23/(J23+K23),"") | P23: {=IFERROR(INDEX($S$9:$NY$9,MATCH("P",S23:NY23,0)),IFERROR(INDEX($S$9:$NY$9,1,MATCH(J23+L23+1,($S$9:$NY$9>=$F23)*(QUOTIENT($S$9:$NY$9-$F23,$G23)+1),0)),""))} | Q23: =IF(P23="","",IF(P23-TODAY()<0,"",P23-TODAY()))
... B34: =IF(C34="","",ROW(A24)) | D34: =IFERROR(VLOOKUP(C34,Tabla_Equipos[],2,FALSE),"") | H34: =IF(G34="","",IFERROR(VLOOKUP(G34,Tabla_Frecuencias[],2,FALSE),"Otra")) | I34: {=IFERROR(SUM((($S$9:$NY$9>=$F34)*(MOD($S$9:$NY$9-$F34,$G34)+1)=1)*1),"")} | J34: =IF($I34="","",COUNTIF($S34:$NY34,J$10)) | K34: =IF($I34="","",COUNTIF($S34:$NY34,K$10)) | L34: =IF($I34="","",COUNTIF($S34:$NY34,L$10)) | M34: =IF($I34="","",I34+COUNTIF($S34:$NY34,M$10)-J34-L34) | N34: =IFERROR(J34/(J34+L34),"") | O34: =IFERROR(J34/(J34+K34),"") | P34: {=IFERROR(INDEX($S$9:$NY$9,MATCH("P",S34:NY34,0)),IFERROR(INDEX($S$9:$NY$9,1,MATCH(J34+L34+1,($S$9:$NY$9>=$F34)*(QUOTIENT($S$9:$NY$9-$F34,$G34)+1),0)),""))} | Q34: =IF(P34="","",IF(P34-TODAY()<0,"",P34-TODAY()))
D35: =IFERROR(VLOOKUP(C35,Tabla_Equipos[],2,FALSE),"") | H35: =IF(G35="","",IFERROR(VLOOKUP(G35,Tabla_Frecuencias[],2,FALSE),"Otra")) | I35: {=IFERROR(SUM((($S$9:$NY$9>=$F35)*(MOD($S$9:$NY$9-$F35,$G35)+1)=1)*1),"")} | J35: =IF($I35="","",COUNTIF($S35:$NY35,J$10)) | K35: =IF($I35="","",COUNTIF($S35:$NY35,K$10)) | L35: =IF($I35="","",COUNTIF($S35:$NY35,L$10)) | M35: =IF($I35="","",I35+COUNTIF($S35:$NY35,M$10)-J35-L35) | N35: =IFERROR(J35/(J35+L35),"") | O35: =IFERROR(J35/(J35+K35),"") | P35: {=IFERROR(INDEX($S$9:$NY$9,MATCH("P",S35:NY35,0)),IFERROR(INDEX($S$9:$NY$9,1,MATCH(J35+L35+1,($S$9:$NY$9>=$F35)*(QUOTIENT($S$9:$NY$9-$F35,$G35)+1),0)),""))} | Q35: =IF(P35="","",IF(P35-TODAY()<0,"",P35-TODAY()))
D36: =IFERROR(VLOOKUP(C36,Tabla_Equipos[],2,FALSE),"") | H36: =IF(G36="","",IFERROR(VLOOKUP(G36,Tabla_Frecuencias[],2,FALSE),"Otra")) | I36: {=IFERROR(SUM((($S$9:$NY$9>=$F36)*(MOD($S$9:$NY$9-$F36,$G36)+1)=1)*1),"")} | J36: =IF($I36="","",COUNTIF($S36:$NY36,J$10)) | K36: =IF($I36="","",COUNTIF($S36:$NY36,K$10)) | L36: =IF($I36="","",COUNTIF($S36:$NY36,L$10)) | M36: =IF($I36="","",I36+COUNTIF($S36:$NY36,M$10)-J36-L36) | N36: =IFERROR(J36/(J36+L36),"") | O36: =IFERROR(J36/(J36+K36),"") | P36: {=IFERROR(INDEX($S$9:$NY$9,MATCH("P",S36:NY36,0)),IFERROR(INDEX($S$9:$NY$9,1,MATCH(J36+L36+1,($S$9:$NY$9>=$F36)*(QUOTIENT($S$9:$NY$9-$F36,$G36)+1),0)),""))} | Q36: =IF(P36="","",IF(P36-TODAY()<0,"",P36-TODAY()))
D37: =IFERROR(VLOOKUP(C37,Tabla_Equipos[],2,FALSE),"") | H37: =IF(G37="","",IFERROR(VLOOKUP(G37,Tabla_Frecuencias[],2,FALSE),"Otra")) | I37: {=IFERROR(SUM((($S$9:$NY$9>=$F37)*(MOD($S$9:$NY$9-$F37,$G37)+1)=1)*1),"")} | J37: =IF($I37="","",COUNTIF($S37:$NY37,J$10)) | K37: =IF($I37="","",COUNTIF($S37:$NY37,K$10)) | L37: =IF($I37="","",COUNTIF($S37:$NY37,L$10)) | M37: =IF($I37="","",I37+COUNTIF($S37:$NY37,M$10)-J37-L37) | N37: =IFERROR(J37/(J37+L37),"") | O37: =IFERROR(J37/(J37+K37),"") | P37: {=IFERROR(INDEX($S$9:$NY$9,MATCH("P",S37:NY37,0)),IFERROR(INDEX($S$9:$NY$9,1,MATCH(J37+L37+1,($S$9:$NY$9>=$F37)*(QUOTIENT($S$9:$NY$9-$F37,$G37)+1),0)),""))} | Q37: =IF(P37="","",IF(P37-TODAY()<0,"",P37-TODAY()))
B38: =IF(C38="","",ROW(A28)) | D38: =IFERROR(VLOOKUP(C38,Tabla_Equipos[],2,FALSE),"") | H38: =IF(G38="","",IFERROR(VLOOKUP(G38,Tabla_Frecuencias[],2,FALSE),"Otra")) | I38: {=IFERROR(SUM((($S$9:$NY$9>=$F38)*(MOD($S$9:$NY$9-$F38,$G38)+1)=1)*1),"")} | J38: =IF($I38="","",COUNTIF($S38:$NY38,J$10)) | K38: =IF($I38="","",COUNTIF($S38:$NY38,K$10)) | L38: =IF($I38="","",COUNTIF($S38:$NY38,L$10)) | M38: =IF($I38="","",I38+COUNTIF($S38:$NY38,M$10)-J38-L38) | N38: =IFERROR(J38/(J38+L38),"") | O38: =IFERROR(J38/(J38+K38),"") | P38: {=IFERROR(INDEX($S$9:$NY$9,MATCH("P",S38:NY38,0)),IFERROR(INDEX($S$9:$NY$9,1,MATCH(J38+L38+1,($S$9:$NY$9>=$F38)*(QUOTIENT($S$9:$NY$9-$F38,$G38)+1),0)),""))} | Q38: =IF(P38="","",IF(P38-TODAY()<0,"",P38-TODAY()))
B39: =IF(C39="","",ROW(A29)) | D39: =IFERROR(VLOOKUP(C39,Tabla_Equipos[],2,FALSE),"") | H39: =IF(G39="","",IFERROR(VLOOKUP(G39,Tabla_Frecuencias[],2,FALSE),"Otra")) | I39: {=IFERROR(SUM((($S$9:$NY$9>=$F39)*(MOD($S$9:$NY$9-$F39,$G39)+1)=1)*1),"")} | J39: =IF($I39="","",COUNTIF($S39:$NY39,J$10)) | K39: =IF($I39="","",COUNTIF($S39:$NY39,K$10)) | L39: =IF($I39="","",COUNTIF($S39:$NY39,L$10)) | M39: =IF($I39="","",I39+COUNTIF($S39:$NY39,M$10)-J39-L39) | N39: =IFERROR(J39/(J39+L39),"") | O39: =IFERROR(J39/(J39+K39),"") | P39: {=IFERROR(INDEX($S$9:$NY$9,MATCH("P",S39:NY39,0)),IFERROR(INDEX($S$9:$NY$9,1,MATCH(J39+L39+1,($S$9:$NY$9>=$F39)*(QUOTIENT($S$9:$NY$9-$F39,$G39)+1),0)),""))} | Q39: =IF(P39="","",IF(P39-TODAY()<0,"",P39-TODAY()))
B40: =IF(C40="","",ROW(A30)) | D40: =IFERROR(VLOOKUP(C40,Tabla_Equipos[],2,FALSE),"") | H40: =IF(G40="","",IFERROR(VLOOKUP(G40,Tabla_Frecuencias[],2,FALSE),"Otra")) | I40: {=IFERROR(SUM((($S$9:$NY$9>=$F40)*(MOD($S$9:$NY$9-$F40,$G40)+1)=1)*1),"")} | J40: =IF($I40="","",COUNTIF($S40:$NY40,J$10)) | K40: =IF($I40="","",COUNTIF($S40:$NY40,K$10)) | L40: =IF($I40="","",COUNTIF($S40:$NY40,L$10)) | M40: =IF($I40="","",I40+COUNTIF($S40:$NY40,M$10)-J40-L40) | N40: =IFERROR(J40/(J40+L40),"") | O40: =IFERROR(J40/(J40+K40),"") | P40: {=IFERROR(INDEX($S$9:$NY$9,MATCH("P",S40:NY40,0)),IFERROR(INDEX($S$9:$NY$9,1,MATCH(J40+L40+1,($S$9:$NY$9>=$F40)*(QUOTIENT($S$9:$NY$9-$F40,$G40)+1),0)),""))} | Q40: =IF(P40="","",IF(P40-TODAY()<0,"",P40-TODAY()))
B41: =IF(C41="","",ROW(A31)) | D41: =IFERROR(VLOOKUP(C41,Tabla_Equipos[],2,FALSE),"") | H41: =IF(G41="","",IFERROR(VLOOKUP(G41,Tabla_Frecuencias[],2,FALSE),"Otra")) | I41: {=IFERROR(SUM((($S$9:$NY$9>=$F41)*(MOD($S$9:$NY$9-$F41,$G41)+1)=1)*1),"")} | J41: =IF($I41="","",COUNTIF($S41:$NY41,J$10)) | K41: =IF($I41="","",COUNTIF($S41:$NY41,K$10)) | L41: =IF($I41="","",COUNTIF($S41:$NY41,L$10)) | M41: =IF($I41="","",I41+COUNTIF($S41:$NY41,M$10)-J41-L41) | N41: =IFERROR(J41/(J41+L41),"") | O41: =IFERROR(J41/(J41+K41),"") | P41: {=IFERROR(INDEX($S$9:$NY$9,MATCH("P",S41:NY41,0)),IFERROR(INDEX($S$9:$NY$9,1,MATCH(J41+L41+1,($S$9:$NY$9>=$F41)*(QUOTIENT($S$9:$NY$9-$F41,$G41)+1),0)),""))} | Q41: =IF(P41="","",IF(P41-TODAY()<0,"",P41-TODAY()))
B42: =IF(C42="","",ROW(A32)) | D42: =IFERROR(VLOOKUP(C42,Tabla_Equipos[],2,FALSE),"") | H42: =IF(G42="","",IFERROR(VLOOKUP(G42,Tabla_Frecuencias[],2,FALSE),"Otra")) | I42: {=IFERROR(SUM((($S$9:$NY$9>=$F42)*(MOD($S$9:$NY$9-$F42,$G42)+1)=1)*1),"")} | J42: =IF($I42="","",COUNTIF($S42:$NY42,J$10)) | K42: =IF($I42="","",COUNTIF($S42:$NY42,K$10)) | L42: =IF($I42="","",COUNTIF($S42:$NY42,L$10)) | M42: =IF($I42="","",I42+COUNTIF($S42:$NY42,M$10)-J42-L42) | N42: =IFERROR(J42/(J42+L42),"") | O42: =IFERROR(J42/(J42+K42),"") | P42: {=IFERROR(INDEX($S$9:$NY$9,MATCH("P",S42:NY42,0)),IFERROR(INDEX($S$9:$NY$9,1,MATCH(J42+L42+1,($S$9:$NY$9>=$F42)*(QUOTIENT($S$9:$NY$9-$F42,$G42)+1),0)),""))} | Q42: =IF(P42="","",IF(P42-TODAY()<0,"",P42-TODAY()))
B43: =IF(C43="","",ROW(A33)) | D43: =IFERROR(VLOOKUP(C43,Tabla_Equipos[],2,FALSE),"") | H43: =IF(G43="","",IFERROR(VLOOKUP(G43,Tabla_Frecuencias[],2,FALSE),"Otra")) | I43: {=IFERROR(SUM((($S$9:$NY$9>=$F43)*(MOD($S$9:$NY$9-$F43,$G43)+1)=1)*1),"")} | J43: =IF($I43="","",COUNTIF($S43:$NY43,J$10)) | K43: =IF($I43="","",COUNTIF($S43:$NY43,K$10)) | L43: =IF($I43="","",COUNTIF($S43:$NY43,L$10)) | M43: =IF($I43="","",I43+COUNTIF($S43:$NY43,M$10)-J43-L43) | N43: =IFERROR(J43/(J43+L43),"") | O43: =IFERROR(J43/(J43+K43),"") | P43: {=IFERROR(INDEX($S$9:$NY$9,MATCH("P",S43:NY43,0)),IFERROR(INDEX($S$9:$NY$9,1,MATCH(J43+L43+1,($S$9:$NY$9>=$F43)*(QUOTIENT($S$9:$NY$9-$F43,$G43)+1),0)),""))} | Q43: =IF(P43="","",IF(P43-TODAY()<0,"",P43-TODAY()))
B44: =IF(C44="","",ROW(A34)) | D44: =IFERROR(VLOOKUP(C44,Tabla_Equipos[],2,FALSE),"") | H44: =IF(G44="","",IFERROR(VLOOKUP(G44,Tabla_Frecuencias[],2,FALSE),"Otra")) | I44: {=IFERROR(SUM((($S$9:$NY$9>=$F44)*(MOD($S$9:$NY$9-$F44,$G44)+1)=1)*1),"")} | J44: =IF($I44="","",COUNTIF($S44:$NY44,J$10)) | K44: =IF($I44="","",COUNTIF($S44:$NY44,K$10)) | L44: =IF($I44="","",COUNTIF($S44:$NY44,L$10)) | M44: =IF($I44="","",I44+COUNTIF($S44:$NY44,M$10)-J44-L44) | N44: =IFERROR(J44/(J44+L44),"") | O44: =IFERROR(J44/(J44+K44),"") | P44: {=IFERROR(INDEX($S$9:$NY$9,MATCH("P",S44:NY44,0)),IFERROR(INDEX($S$9:$NY$9,1,MATCH(J44+L44+1,($S$9:$NY$9>=$F44)*(QUOTIENT($S$9:$NY$9-$F44,$G44)+1),0)),""))} | Q44: =IF(P44="","",IF(P44-TODAY()<0,"",P44-TODAY()))
B45: =IF(C45="","",ROW(A35)) | D45: =IFERROR(VLOOKUP(C45,Tabla_Equipos[],2,FALSE),"") | H45: =IF(G45="","",IFERROR(VLOOKUP(G45,Tabla_Frecuencias[],2,FALSE),"Otra")) | I45: {=IFERROR(SUM((($S$9:$NY$9>=$F45)*(MOD($S$9:$NY$9-$F45,$G45)+1)=1)*1),"")} | J45: =IF($I45="","",COUNTIF($S45:$NY45,J$10)) | K45: =IF($I45="","",COUNTIF($S45:$NY45,K$10)) | L45: =IF($I45="","",COUNTIF($S45:$NY45,L$10)) | M45: =IF($I45="","",I45+COUNTIF($S45:$NY45,M$10)-J45-L45) | N45: =IFERROR(J45/(J45+L45),"") | O45: =IFERROR(J45/(J45+K45),"") | P45: {=IFERROR(INDEX($S$9:$NY$9,MATCH("P",S45:NY45,0)),IFERROR(INDEX($S$9:$NY$9,1,MATCH(J45+L45+1,($S$9:$NY$9>=$F45)*(QUOTIENT($S$9:$NY$9-$F45,$G45)+1),0)),""))} | Q45: =IF(P45="","",IF(P45-TODAY()<0,"",P45-TODAY()))
B46: =IF(C46="","",ROW(A36)) | D46: =IFERROR(VLOOKUP(C46,Tabla_Equipos[],2,FALSE),"") | H46: =IF(G46="","",IFERROR(VLOOKUP(G46,Tabla_Frecuencias[],2,FALSE),"Otra")) | I46: {=IFERROR(SUM((($S$9:$NY$9>=$F46)*(MOD($S$9:$NY$9-$F46,$G46)+1)=1)*1),"")} | J46: =IF($I46="","",COUNTIF($S46:$NY46,J$10)) | K46: =IF($I46="","",COUNTIF($S46:$NY46,K$10)) | L46: =IF($I46="","",COUNTIF($S46:$NY46,L$10)) | M46: =IF($I46="","",I46+COUNTIF($S46:$NY46,M$10)-J46-L46) | N46: =IFERROR(J46/(J46+L46),"") | O46: =IFERROR(J46/(J46+K46),"") | P46: {=IFERROR(INDEX($S$9:$NY$9,MATCH("P",S46:NY46,0)),IFERROR(INDEX($S$9:$NY$9,1,MATCH(J46+L46+1,($S$9:$NY$9>=$F46)*(QUOTIENT($S$9:$NY$9-$F46,$G46)+1),0)),""))} | Q46: =IF(P46="","",IF(P46-TODAY()<0,"",P46-TODAY()))
B47: =IF(C47="","",ROW(A37)) | D47: =IFERROR(VLOOKUP(C47,Tabla_Equipos[],2,FALSE),"") | H47: =IF(G47="","",IFERROR(VLOOKUP(G47,Tabla_Frecuencias[],2,FALSE),"Otra")) | I47: {=IFERROR(SUM((($S$9:$NY$9>=$F47)*(MOD($S$9:$NY$9-$F47,$G47)+1)=1)*1),"")} | J47: =IF($I47="","",COUNTIF($S47:$NY47,J$10)) | K47: =IF($I47="","",COUNTIF($S47:$NY47,K$10)) | L47: =IF($I47="","",COUNTIF($S47:$NY47,L$10)) | M47: =IF($I47="","",I47+COUNTIF($S47:$NY47,M$10)-J47-L47) | N47: =IFERROR(J47/(J47+L47),"") | O47: =IFERROR(J47/(J47+K47),"") | P47: {=IFERROR(INDEX($S$9:$NY$9,MATCH("P",S47:NY47,0)),IFERROR(INDEX($S$9:$NY$9,1,MATCH(J47+L47+1,($S$9:$NY$9>=$F47)*(QUOTIENT($S$9:$NY$9-$F47,$G47)+1),0)),""))} | Q47: =IF(P47="","",IF(P47-TODAY()<0,"",P47-TODAY()))
B48: =IF(C48="","",ROW(A38)) | D48: =IFERROR(VLOOKUP(C48,Tabla_Equipos[],2,FALSE),"") | H48: =IF(G48="","",IFERROR(VLOOKUP(G48,Tabla_Frecuencias[],2,FALSE),"Otra")) | I48: {=IFERROR(SUM((($S$9:$NY$9>=$F48)*(MOD($S$9:$NY$9-$F48,$G48)+1)=1)*1),"")} | J48: =IF($I48="","",COUNTIF($S48:$NY48,J$10)) | K48: =IF($I48="","",COUNTIF($S48:$NY48,K$10)) | L48: =IF($I48="","",COUNTIF($S48:$NY48,L$10)) | M48: =IF($I48="","",I48+COUNTIF($S48:$NY48,M$10)-J48-L48) | N48: =IFERROR(J48/(J48+L48),"") | O48: =IFERROR(J48/(J48+K48),"") | P48: {=IFERROR(INDEX($S$9:$NY$9,MATCH("P",S48:NY48,0)),IFERROR(INDEX($S$9:$NY$9,1,MATCH(J48+L48+1,($S$9:$NY$9>=$F48)*(QUOTIENT($S$9:$NY$9-$F48,$G48)+1),0)),""))} | Q48: =IF(P48="","",IF(P48-TODAY()<0,"",P48-TODAY()))
B49: =IF(C49="","",ROW(A39)) | D49: =IFERROR(VLOOKUP(C49,Tabla_Equipos[],2,FALSE),"") | H49: =IF(G49="","",IFERROR(VLOOKUP(G49,Tabla_Frecuencias[],2,FALSE),"Otra")) | I49: {=IFERROR(SUM((($S$9:$NY$9>=$F49)*(MOD($S$9:$NY$9-$F49,$G49)+1)=1)*1),"")} | J49: =IF($I49="","",COUNTIF($S49:$NY49,J$10)) | K49: =IF($I49="","",COUNTIF($S49:$NY49,K$10)) | L49: =IF($I49="","",COUNTIF($S49:$NY49,L$10)) | M49: =IF($I49="","",I49+COUNTIF($S49:$NY49,M$10)-J49-L49) | N49: =IFERROR(J49/(J49+L49),"") | O49: =IFERROR(J49/(J49+K49),"") | P49: {=IFERROR(INDEX($S$9:$NY$9,MATCH("P",S49:NY49,0)),IFERROR(INDEX($S$9:$NY$9,1,MATCH(J49+L49+1,($S$9:$NY$9>=$F49)*(QUOTIENT($S$9:$NY$9-$F49,$G49)+1),0)),""))} | Q49: =IF(P49="","",IF(P49-TODAY()<0,"",P49-TODAY()))
... B100: =IF(C100="","",ROW(A90)) | D100: =IFERROR(VLOOKUP(C100,Tabla_Equipos[],2,FALSE),"") | H100: =IF(G100="","",IFERROR(VLOOKUP(G100,Tabla_Frecuencias[],2,FALSE),"Otra")) | I100: {=IFERROR(SUM((($S$9:$NY$9>=$F100)*(MOD($S$9:$NY$9-$F100,$G100)+1)=1)*1),"")} | J100: =IF($I100="","",COUNTIF($S100:$NY100,J$10)) | K100: =IF($I100="","",COUNTIF($S100:$NY100,K$10)) | L100: =IF($I100="","",COUNTIF($S100:$NY100,L$10)) | M100: =IF($I100="","",I100+COUNTIF($S100:$NY100,M$10)-J100-L100) | N100: =IFERROR(J100/(J100+L100),"") | O100: =IFERROR(J100/(J100+K100),"") | P100: {=IFERROR(INDEX($S$9:$NY$9,MATCH("P",S100:NY100,0)),IFERROR(INDEX($S$9:$NY$9,1,MATCH(J100+L100+1,($S$9:$NY$9>=$F100)*(QUOTIENT($S$9:$NY$9-$F100,$G100)+1),0)),""))} | Q100: =IF(P100="","",IF(P100-TODAY()<0,"",P100-TODAY()))

Sheet Informe
B1: INFORME DE INDICADORES POR EQUIPO Y SEMANAL
B3: Código de Equipo | C3: 8676
B4: =IFERROR(VLOOKUP(C3,Tabla_Equipos[],2,FALSE),"Todos los Equipos") -> Perforadora Rotativa MD6540C
F9: ="Semana "&'Calculos Semana'!$D$2+COLUMN(A1)-1 -> Semana 1 | G9: ="Semana "&'Calculos Semana'!$D$2+COLUMN(B1)-1 -> Semana 2 | H9: ="Semana "&'Calculos Semana'!$D$2+COLUMN(C1)-1 -> Semana 3 | I9: ="Semana "&'Calculos Semana'!$D$2+COLUMN(D1)-1 -> Semana 4 | J9: ="Semana "&'Calculos Semana'!$D$2+COLUMN(E1)-1 -> Semana 5 | K9: ="Semana "&'Calculos Semana'!$D$2+COLUMN(F1)-1 -> Semana 6 | L9: ="Semana "&'Calculos Semana'!$D$2+COLUMN(G1)-1 -> Semana 7 | M9: ="Semana "&'Calculos Semana'!$D$2+COLUMN(H1)-1 -> Semana 8 | ... O9: ="Semana "&'Calculos Semana'!$D$2+COLUMN(J1)-1 -> Semana 10
A11: =REPT(" ",8)&COUNTA($B$16:$B$9915) -> 0 | B11: Programados (PR) | C11: =SUMIF(Programa!$C$11:$C$10000,IF($C$3="Todos","*",$C$3),Programa!$I$11:$I$10000) -> 0 | E11: Cumplimiento | F11: =IFERROR(F12/(F12+F14),NA()) -> #N/A | G11: =IFERROR(G12/(G12+G14),NA()) -> #N/A | H11: =IFERROR(H12/(H12+H14),NA()) -> #N/A | I11: =IFERROR(I12/(I12+I14),NA()) -> #N/A | J11: =IFERROR(J12/(J12+J14),NA()) -> #N/A | K11: =IFERROR(K12/(K12+K14),NA()) -> #N/A | L11: =IFERROR(L12/(L12+L14),NA()) -> #N/A | M11: =IFERROR(M12/(M12+M14),NA()) -> #N/A | ... O11: =IFERROR(O12/(O12+O14),NA()) -> #N/A
A12: {=REPT(" ",8)&COUNT(IF(_xlfn.UNIQUE(#REF!)<>"",0))} -> 0 | B12: Ejecutados (E) | C12: =SUMIF(Programa!$C$11:$C$10000,IF($C$3="Todos","*",$C$3),Programa!$J$11:$J$10000) -> 0 | E12: E | F12: =OFFSET('Calculos Semana'!$C$3,MATCH(Informe!$E12,'Calculos Semana'!$C$4:$C$6,0),MATCH(F$9,'Calculos Semana'!$D$3:$BD$3,0)) -> 0 | G12: =OFFSET('Calculos Semana'!$C$3,MATCH(Informe!$E12,'Calculos Semana'!$C$4:$C$6,0),MATCH(G$9,'Calculos Semana'!$D$3:$BD$3,0)) -> 0 | H12: =OFFSET('Calculos Semana'!$C$3,MATCH(Informe!$E12,'Calculos Semana'!$C$4:$C$6,0),MATCH(H$9,'Calculos Semana'!$D$3:$BD$3,0)) -> 0 | I12: =OFFSET('Calculos Semana'!$C$3,MATCH(Informe!$E12,'Calculos Semana'!$C$4:$C$6,0),MATCH(I$9,'Calculos Semana'!$D$3:$BD$3,0)) -> 0 | J12: =OFFSET('Calculos Semana'!$C$3,MATCH(Informe!$E12,'Calculos Semana'!$C$4:$C$6,0),MATCH(J$9,'Calculos Semana'!$D$3:$BD$3,0)) -> 0 | K12: =OFFSET('Calculos Semana'!$C$3,MATCH(Informe!$E12,'Calculos Semana'!$C$4:$C$6,0),MATCH(K$9,'Calculos Semana'!$D$3:$BD$3,0)) -> 0 | L12: =OFFSET('Calculos Semana'!$C$3,MATCH(Informe!$E12,'Calculos Semana'!$C$4:$C$6,0),MATCH(L$9,'Calculos Semana'!$D$3:$BD$3,0)) -> 0 | M12: =OFFSET('Calculos Semana'!$C$3,MATCH(Informe!$E12,'Calculos Semana'!$C$4:$C$6,0),MATCH(M$9,'Calculos Semana'!$D$3:$BD$3,0)) -> 0 | ... O12: =OFFSET('Calculos Semana'!$C$3,MATCH(Informe!$E12,'Calculos Semana'!$C$4:$C$6,0),MATCH(O$9,'Calculos Semana'!$D$3:$BD$3,0)) -> 0
B13: Reprogramados (R) | C13: =SUMIF(Programa!$C$11:$C$10000,IF($C$3="Todos","*",$C$3),Programa!$K$11:$K$10000) -> 0 | E13: R | F13: =OFFSET('Calculos Semana'!$C$3,MATCH(Informe!$E13,'Calculos Semana'!$C$4:$C$6,0),MATCH(F$9,'Calculos Semana'!$D$3:$BD$3,0)) -> 0 | G13: =OFFSET('Calculos Semana'!$C$3,MATCH(Informe!$E13,'Calculos Semana'!$C$4:$C$6,0),MATCH(G$9,'Calculos Semana'!$D$3:$BD$3,0)) -> 0 | H13: =OFFSET('Calculos Semana'!$C$3,MATCH(Informe!$E13,'Calculos Semana'!$C$4:$C$6,0),MATCH(H$9,'Calculos Semana'!$D$3:$BD$3,0)) -> 0 | I13: =OFFSET('Calculos Semana'!$C$3,MATCH(Informe!$E13,'Calculos Semana'!$C$4:$C$6,0),MATCH(I$9,'Calculos Semana'!$D$3:$BD$3,0)) -> 0 | J13: =OFFSET('Calculos Semana'!$C$3,MATCH(Informe!$E13,'Calculos Semana'!$C$4:$C$6,0),MATCH(J$9,'Calculos Semana'!$D$3:$BD$3,0)) -> 0 | K13: =OFFSET('Calculos Semana'!$C$3,MATCH(Informe!$E13,'Calculos Semana'!$C$4:$C$6,0),MATCH(K$9,'Calculos Semana'!$D$3:$BD$3,0)) -> 0 | L13: =OFFSET('Calculos Semana'!$C$3,MATCH(Informe!$E13,'Calculos Semana'!$C$4:$C$6,0),MATCH(L$9,'Calculos Semana'!$D$3:$BD$3,0)) -> 0 | M13: =OFFSET('Calculos Semana'!$C$3,MATCH(Informe!$E13,'Calculos Semana'!$C$4:$C$6,0),MATCH(M$9,'Calculos Semana'!$D$3:$BD$3,0)) -> 0 | ... O13: =OFFSET('Calculos Semana'!$C$3,MATCH(Informe!$E13,'Calculos Semana'!$C$4:$C$6,0),MATCH(O$9,'Calculos Semana'!$D$3:$BD$3,0)) -> 0
B14: No Ejecutados (N) | C14: =SUMIF(Programa!$C$11:$C$10000,IF($C$3="Todos","*",$C$3),Programa!$L$11:$L$10000) -> 0 | E14: N | F14: =OFFSET('Calculos Semana'!$C$3,MATCH(Informe!$E14,'Calculos Semana'!$C$4:$C$6,0),MATCH(F$9,'Calculos Semana'!$D$3:$BD$3,0)) -> 0 | G14: =OFFSET('Calculos Semana'!$C$3,MATCH(Informe!$E14,'Calculos Semana'!$C$4:$C$6,0),MATCH(G$9,'Calculos Semana'!$D$3:$BD$3,0)) -> 0 | H14: =OFFSET('Calculos Semana'!$C$3,MATCH(Informe!$E14,'Calculos Semana'!$C$4:$C$6,0),MATCH(H$9,'Calculos Semana'!$D$3:$BD$3,0)) -> 0 | I14: =OFFSET('Calculos Semana'!$C$3,MATCH(Informe!$E14,'Calculos Semana'!$C$4:$C$6,0),MATCH(I$9,'Calculos Semana'!$D$3:$BD$3,0)) -> 0 | J14: =OFFSET('Calculos Semana'!$C$3,MATCH(Informe!$E14,'Calculos Semana'!$C$4:$C$6,0),MATCH(J$9,'Calculos Semana'!$D$3:$BD$3,0)) -> 0 | K14: =OFFSET('Calculos Semana'!$C$3,MATCH(Informe!$E14,'Calculos Semana'!$C$4:$C$6,0),MATCH(K$9,'Calculos Semana'!$D$3:$BD$3,0)) -> 0 | L14: =OFFSET('Calculos Semana'!$C$3,MATCH(Informe!$E14,'Calculos Semana'!$C$4:$C$6,0),MATCH(L$9,'Calculos Semana'!$D$3:$BD$3,0)) -> 0 | M14: =OFFSET('Calculos Semana'!$C$3,MATCH(Informe!$E14,'Calculos Semana'!$C$4:$C$6,0),MATCH(M$9,'Calculos Semana'!$D$3:$BD$3,0)) -> 0 | ... O14: =OFFSET('Calculos Semana'!$C$3,MATCH(Informe!$E14,'Calculos Semana'!$C$4:$C$6,0),MATCH(O$9,'Calculos Semana'!$D$3:$BD$3,0)) -> 0
B15: Pendientes (P) | C15: =SUMIF(Programa!$C$11:$C$10000,IF($C$3="Todos","*",$C$3),Programa!$M$11:$M$10000) -> 0 | E15: Efectividad | F15: =IFERROR(F12/(F12+F13),NA()) -> #N/A | G15: =IFERROR(G12/(G12+G13),NA()) -> #N/A | H15: =IFERROR(H12/(H12+H13),NA()) -> #N/A | I15: =IFERROR(I12/(I12+I13),NA()) -> #N/A | J15: =IFERROR(J12/(J12+J13),NA()) -> #N/A | K15: =IFERROR(K12/(K12+K13),NA()) -> #N/A | L15: =IFERROR(L12/(L12+L13),NA()) -> #N/A | M15: =IFERROR(M12/(M12+M13),NA()) -> #N/A | ... O15: =IFERROR(O12/(O12+O13),NA()) -> #N/A

Sheet Velocimetros
B2: VELOCIMETROS TOTALES | H2: VELOCIMETROS POR EQUIPO | N2: Lista de códigos | O2: Vinculo Fecha
B4: % Cumplimiento | E4: % Eficiencia | H4: % Cumplimiento | K4: % Eficiencia | N4: Todos | O4: 15103
N5: {=OFFSET(Equipos!$B$5,0,0,COUNTA(Tabla_Equipos[Código]))} -> 8676
B6: Tamaño Secciones | E6: Tamaño Secciones | H6: Tamaño Secciones | K6: Tamaño Secciones | N6: 4020
B7: Rojo: | C7: =Programa!$H$5 -> 0.75 | E7: Rojo: | F7: =Programa!$I$5 -> 0.6 | H7: Rojo: | I7: =Programa!$H$5 -> 0.75 | K7: Rojo: | L7: =Programa!$I$5 -> 0.6 | N7: 4717
B8: Amarillo: | C8: =Programa!$H$7-Programa!$H$5 -> 0.15 | E8: Amarillo: | F8: =Programa!$I$7-Programa!$I$5 -> 0.2 | H8: Amarillo: | I8: =Programa!$H$7-Programa!$H$5 -> 0.15 | K8: Amarillo: | L8: =Programa!$I$7-Programa!$I$5 -> 0.2 | N8: 2180
B9: Verde: | C9: =1-C8-C7 -> 0.1 | E9: Verde: | F9: =1-F8-F7 -> 0.2 | H9: Verde: | I9: =1-I8-I7 -> 0.1 | K9: Verde: | L9: =1-L8-L7 -> 0.2 | N9: #N/A
B10: Complemen: | C10: 1 | E10: Complemen: | F10: 1 | H10: Complemen: | I10: 1 | K10: Complemen: | L10: 1 | N10: #N/A
N11: #N/A
B12: Indicador | E12: Indicador | H12: Indicador | K12: Indicador | N12: #N/A
B13: Indicador: | C13: =IFERROR(ROUND(Programa!F4/(Programa!F4+Programa!F7),2),"") | E13: Indicador: | F13: =IFERROR(ROUND(Programa!F4/(Programa!F4+Programa!F5),2),"") | H13: Indicador: | I13: =IFERROR(ROUND(Informe!C12/(Informe!C12+Informe!C14),2),"") | K13: Indicador: | L13: =IFERROR(ROUND(Informe!C12/(Informe!C12+Informe!C13),2),"") | N13: #N/A
B14: Ancho Aguja: | C14: 0.03 | E14: Ancho Aguja: | F14: 0.03 | H14: Ancho Aguja: | I14: 0.03 | K14: Ancho Aguja: | L14: 0.03 | N14: #N/A
B15: Diferencia KPI | C15: =1-C13-C14 -> #VALUE! | E15: Diferencia KPI | F15: =1-F13-F14 -> #VALUE! | H15: Diferencia KPI | I15: =1-I13-I14 -> #VALUE! | K15: Diferencia KPI | L15: =1-L13-L14 -> #VALUE! | N15: #N/A
B16: Complement: | C16: 1 | E16: Complement: | F16: 1 | H16: Complement: | I16: 1 | K16: Complement: | L16: 1 | N16: #N/A
N17: #N/A
N18: #N/A
N19: #N/A
N20: #N/A
N21: #N/A
N22: #N/A
N23: #N/A
N24: #N/A
N25: #N/A
N26: #N/A
N27: #N/A
N28: #N/A
... N201: #N/A

Sheet Calculos Semana
A1: FALSE
B2: EQUIPO NRO | C2: =Informe!C3 -> 8676 | D2: 1
B3: SEMANA | D3: Semana 1 | E3: Semana 2 | F3: Semana 3 | G3: Semana 4 | H3: Semana 5 | I3: Semana 6 | J3: Semana 7 | K3: Semana 8 | L3: Semana 9 | M3: Semana 10 | N3: Semana 11 | O3: Semana 12 | P3: Semana 13 | Q3: Semana 14 | R3: Semana 15 | S3: Semana 16 | T3: Semana 17 | U3: Semana 18 | V3: Semana 19 | W3: Semana 20 | X3: Semana 21 | Y3: Semana 22 | Z3: Semana 23 | AA3: Semana 24 | AB3: Semana 25 | AC3: Semana 26 | AD3: Semana 27 | AE3: Semana 28 | AF3: Semana 29 | AG3: Semana 30 | AH3: Semana 31 | AI3: Semana 32 | AJ3: Semana 33 | AK3: Semana 34 | AL3: Semana 35 | AM3: Semana 36 | AN3: Semana 37 | AO3: Semana 38 | AP3: Semana 39 | AQ3: Semana 40 | AR3: Semana 41 | AS3: Semana 42 | AT3: Semana 43 | AU3: Semana 44 | AV3: Semana 45 | AW3: Semana 46 | AX3: Semana 47 | AY3: Semana 48 | AZ3: Semana 49 | BA3: Semana 50 | BB3: Semana 51 | BC3: Semana 52 | BD3: Semana 53
B4: ESTADO | C4: E | D4: =IFERROR(COUNTIF(OFFSET(Programa!$R$11,MATCH($C$2,Programa!$C$11:$C$1000,0)-1,MATCH(D$3,Programa!$S$7:$NY$7,0),COUNTIF(Programa!$C$11:$C$1000,$C$2),7),$C4),COUNTIF(OFFSET(Programa!$R$11,0,MATCH(D$3,Programa!$S$7:$NY$7,0),1000,7),$C4)) -> 0 | E4: =IFERROR(COUNTIF(OFFSET(Programa!$R$11,MATCH($C$2,Programa!$C$11:$C$1000,0)-1,MATCH(E$3,Programa!$S$7:$NY$7,0),COUNTIF(Programa!$C$11:$C$1000,$C$2),7),$C4),COUNTIF(OFFSET(Programa!$R$11,0,MATCH(E$3,Programa!$S$7:$NY$7,0),1000,7),$C4)) -> 0 | F4: =IFERROR(COUNTIF(OFFSET(Programa!$R$11,MATCH($C$2,Programa!$C$11:$C$1000,0)-1,MATCH(F$3,Programa!$S$7:$NY$7,0),COUNTIF(Programa!$C$11:$C$1000,$C$2),7),$C4),COUNTIF(OFFSET(Programa!$R$11,0,MATCH(F$3,Programa!$S$7:$NY$7,0),1000,7),$C4)) -> 0 | G4: =IFERROR(COUNTIF(OFFSET(Programa!$R$11,MATCH($C$2,Programa!$C$11:$C$1000,0)-1,MATCH(G$3,Programa!$S$7:$NY$7,0),COUNTIF(Programa!$C$11:$C$1000,$C$2),7),$C4),COUNTIF(OFFSET(Programa!$R$11,0,MATCH(G$3,Programa!$S$7:$NY$7,0),1000,7),$C4)) -> 0 | H4: =IFERROR(COUNTIF(OFFSET(Programa!$R$11,MATCH($C$2,Programa!$C$11:$C$1000,0)-1,MATCH(H$3,Programa!$S$7:$NY$7,0),COUNTIF(Programa!$C$11:$C$1000,$C$2),7),$C4),COUNTIF(OFFSET(Programa!$R$11,0,MATCH(H$3,Programa!$S$7:$NY$7,0),1000,7),$C4)) -> 0 | I4: =IFERROR(COUNTIF(OFFSET(Programa!$R$11,MATCH($C$2,Programa!$C$11:$C$1000,0)-1,MATCH(I$3,Programa!$S$7:$NY$7,0),COUNTIF(Programa!$C$11:$C$1000,$C$2),7),$C4),COUNTIF(OFFSET(Programa!$R$11,0,MATCH(I$3,Programa!$S$7:$NY$7,0),1000,7),$C4)) -> 0 | J4: =IFERROR(COUNTIF(OFFSET(Programa!$R$11,MATCH($C$2,Programa!$C$11:$C$1000,0)-1,MATCH(J$3,Programa!$S$7:$NY$7,0),COUNTIF(Programa!$C$11:$C$1000,$C$2),7),$C4),COUNTIF(OFFSET(Programa!$R$11,0,MATCH(J$3,Programa!$S$7:$NY$7,0),1000,7),$C4)) -> 0 | K4: =IFERROR(COUNTIF(OFFSET(Programa!$R$11,MATCH($C$2,Programa!$C$11:$C$1000,0)-1,MATCH(K$3,Programa!$S$7:$NY$7,0),COUNTIF(Programa!$C$11:$C$1000,$C$2),7),$C4),COUNTIF(OFFSET(Programa!$R$11,0,MATCH(K$3,Programa!$S$7:$NY$7,0),1000,7),$C4)) -> 0 | ... BD4: =IFERROR(COUNTIF(OFFSET(Programa!$R$11,MATCH($C$2,Programa!$C$11:$C$1000,0)-1,MATCH(BD$3,Programa!$S$7:$NY$7,0),COUNTIF(Programa!$C$11:$C$1000,$C$2),7),$C4),COUNTIF(OFFSET(Programa!$R$11,0,MATCH(BD$3,Programa!$S$7:$NY$7,0),1000,7),$C4)) -> 0
C5: R | D5: =IFERROR(COUNTIF(OFFSET(Programa!$R$11,MATCH($C$2,Programa!$C$11:$C$1000,0)-1,MATCH(D$3,Programa!$S$7:$NY$7,0),COUNTIF(Programa!$C$11:$C$1000,$C$2),7),$C5),COUNTIF(OFFSET(Programa!$R$11,0,MATCH(D$3,Programa!$S$7:$NY$7,0),1000,7),$C5)) -> 0 | E5: =IFERROR(COUNTIF(OFFSET(Programa!$R$11,MATCH($C$2,Programa!$C$11:$C$1000,0)-1,MATCH(E$3,Programa!$S$7:$NY$7,0),COUNTIF(Programa!$C$11:$C$1000,$C$2),7),$C5),COUNTIF(OFFSET(Programa!$R$11,0,MATCH(E$3,Programa!$S$7:$NY$7,0),1000,7),$C5)) -> 0 | F5: =IFERROR(COUNTIF(OFFSET(Programa!$R$11,MATCH($C$2,Programa!$C$11:$C$1000,0)-1,MATCH(F$3,Programa!$S$7:$NY$7,0),COUNTIF(Programa!$C$11:$C$1000,$C$2),7),$C5),COUNTIF(OFFSET(Programa!$R$11,0,MATCH(F$3,Programa!$S$7:$NY$7,0),1000,7),$C5)) -> 0 | G5: =IFERROR(COUNTIF(OFFSET(Programa!$R$11,MATCH($C$2,Programa!$C$11:$C$1000,0)-1,MATCH(G$3,Programa!$S$7:$NY$7,0),COUNTIF(Programa!$C$11:$C$1000,$C$2),7),$C5),COUNTIF(OFFSET(Programa!$R$11,0,MATCH(G$3,Programa!$S$7:$NY$7,0),1000,7),$C5)) -> 0 | H5: =IFERROR(COUNTIF(OFFSET(Programa!$R$11,MATCH($C$2,Programa!$C$11:$C$1000,0)-1,MATCH(H$3,Programa!$S$7:$NY$7,0),COUNTIF(Programa!$C$11:$C$1000,$C$2),7),$C5),COUNTIF(OFFSET(Programa!$R$11,0,MATCH(H$3,Programa!$S$7:$NY$7,0),1000,7),$C5)) -> 0 | I5: =IFERROR(COUNTIF(OFFSET(Programa!$R$11,MATCH($C$2,Programa!$C$11:$C$1000,0)-1,MATCH(I$3,Programa!$S$7:$NY$7,0),COUNTIF(Programa!$C$11:$C$1000,$C$2),7),$C5),COUNTIF(OFFSET(Programa!$R$11,0,MATCH(I$3,Programa!$S$7:$NY$7,0),1000,7),$C5)) -> 0 | J5: =IFERROR(COUNTIF(OFFSET(Programa!$R$11,MATCH($C$2,Programa!$C$11:$C$1000,0)-1,MATCH(J$3,Programa!$S$7:$NY$7,0),COUNTIF(Programa!$C$11:$C$1000,$C$2),7),$C5),COUNTIF(OFFSET(Programa!$R$11,0,MATCH(J$3,Programa!$S$7:$NY$7,0),1000,7),$C5)) -> 0 | K5: =IFERROR(COUNTIF(OFFSET(Programa!$R$11,MATCH($C$2,Programa!$C$11:$C$1000,0)-1,MATCH(K$3,Programa!$S$7:$NY$7,0),COUNTIF(Programa!$C$11:$C$1000,$C$2),7),$C5),COUNTIF(OFFSET(Programa!$R$11,0,MATCH(K$3,Programa!$S$7:$NY$7,0),1000,7),$C5)) -> 0 | ... BD5: =IFERROR(COUNTIF(OFFSET(Programa!$R$11,MATCH($C$2,Programa!$C$11:$C$1000,0)-1,MATCH(BD$3,Programa!$S$7:$NY$7,0),COUNTIF(Programa!$C$11:$C$1000,$C$2),7),$C5),COUNTIF(OFFSET(Programa!$R$11,0,MATCH(BD$3,Programa!$S$7:$NY$7,0),1000,7),$C5)) -> 0
C6: N | D6: =IFERROR(COUNTIF(OFFSET(Programa!$R$11,MATCH($C$2,Programa!$C$11:$C$1000,0)-1,MATCH(D$3,Programa!$S$7:$NY$7,0),COUNTIF(Programa!$C$11:$C$1000,$C$2),7),$C6),COUNTIF(OFFSET(Programa!$R$11,0,MATCH(D$3,Programa!$S$7:$NY$7,0),1000,7),$C6)) -> 0 | E6: =IFERROR(COUNTIF(OFFSET(Programa!$R$11,MATCH($C$2,Programa!$C$11:$C$1000,0)-1,MATCH(E$3,Programa!$S$7:$NY$7,0),COUNTIF(Programa!$C$11:$C$1000,$C$2),7),$C6),COUNTIF(OFFSET(Programa!$R$11,0,MATCH(E$3,Programa!$S$7:$NY$7,0),1000,7),$C6)) -> 0 | F6: =IFERROR(COUNTIF(OFFSET(Programa!$R$11,MATCH($C$2,Programa!$C$11:$C$1000,0)-1,MATCH(F$3,Programa!$S$7:$NY$7,0),COUNTIF(Programa!$C$11:$C$1000,$C$2),7),$C6),COUNTIF(OFFSET(Programa!$R$11,0,MATCH(F$3,Programa!$S$7:$NY$7,0),1000,7),$C6)) -> 0 | G6: =IFERROR(COUNTIF(OFFSET(Programa!$R$11,MATCH($C$2,Programa!$C$11:$C$1000,0)-1,MATCH(G$3,Programa!$S$7:$NY$7,0),COUNTIF(Programa!$C$11:$C$1000,$C$2),7),$C6),COUNTIF(OFFSET(Programa!$R$11,0,MATCH(G$3,Programa!$S$7:$NY$7,0),1000,7),$C6)) -> 0 | H6: =IFERROR(COUNTIF(OFFSET(Programa!$R$11,MATCH($C$2,Programa!$C$11:$C$1000,0)-1,MATCH(H$3,Programa!$S$7:$NY$7,0),COUNTIF(Programa!$C$11:$C$1000,$C$2),7),$C6),COUNTIF(OFFSET(Programa!$R$11,0,MATCH(H$3,Programa!$S$7:$NY$7,0),1000,7),$C6)) -> 0 | I6: =IFERROR(COUNTIF(OFFSET(Programa!$R$11,MATCH($C$2,Programa!$C$11:$C$1000,0)-1,MATCH(I$3,Programa!$S$7:$NY$7,0),COUNTIF(Programa!$C$11:$C$1000,$C$2),7),$C6),COUNTIF(OFFSET(Programa!$R$11,0,MATCH(I$3,Programa!$S$7:$NY$7,0),1000,7),$C6)) -> 0 | J6: =IFERROR(COUNTIF(OFFSET(Programa!$R$11,MATCH($C$2,Programa!$C$11:$C$1000,0)-1,MATCH(J$3,Programa!$S$7:$NY$7,0),COUNTIF(Programa!$C$11:$C$1000,$C$2),7),$C6),COUNTIF(OFFSET(Programa!$R$11,0,MATCH(J$3,Programa!$S$7:$NY$7,0),1000,7),$C6)) -> 0 | K6: =IFERROR(COUNTIF(OFFSET(Programa!$R$11,MATCH($C$2,Programa!$C$11:$C$1000,0)-1,MATCH(K$3,Programa!$S$7:$NY$7,0),COUNTIF(Programa!$C$11:$C$1000,$C$2),7),$C6),COUNTIF(OFFSET(Programa!$R$11,0,MATCH(K$3,Programa!$S$7:$NY$7,0),1000,7),$C6)) -> 0 | ... BD6: =IFERROR(COUNTIF(OFFSET(Programa!$R$11,MATCH($C$2,Programa!$C$11:$C$1000,0)-1,MATCH(BD$3,Programa!$S$7:$NY$7,0),COUNTIF(Programa!$C$11:$C$1000,$C$2),7),$C6),COUNTIF(OFFSET(Programa!$R$11,0,MATCH(BD$3,Programa!$S$7:$NY$7,0),1000,7),$C6)) -> 0
